BEGIN:VCALENDAR
VERSION:2.0
PRODID:-//ABCFOC - ECPv6.15.20//NONSGML v1.0//EN
CALSCALE:GREGORIAN
METHOD:PUBLISH
X-WR-CALNAME:ABCFOC
X-ORIGINAL-URL:https://abcfoc.org
X-WR-CALDESC:Events for ABCFOC
REFRESH-INTERVAL;VALUE=DURATION:PT1H
X-Robots-Tag:noindex
X-PUBLISHED-TTL:PT1H
BEGIN:VTIMEZONE
TZID:America/New_York
BEGIN:DAYLIGHT
TZOFFSETFROM:-0500
TZOFFSETTO:-0400
TZNAME:EDT
DTSTART:20250309T070000
END:DAYLIGHT
BEGIN:STANDARD
TZOFFSETFROM:-0400
TZOFFSETTO:-0500
TZNAME:EST
DTSTART:20251102T060000
END:STANDARD
BEGIN:DAYLIGHT
TZOFFSETFROM:-0500
TZOFFSETTO:-0400
TZNAME:EDT
DTSTART:20260308T070000
END:DAYLIGHT
BEGIN:STANDARD
TZOFFSETFROM:-0400
TZOFFSETTO:-0500
TZNAME:EST
DTSTART:20261101T060000
END:STANDARD
BEGIN:DAYLIGHT
TZOFFSETFROM:-0500
TZOFFSETTO:-0400
TZNAME:EDT
DTSTART:20270314T070000
END:DAYLIGHT
BEGIN:STANDARD
TZOFFSETFROM:-0400
TZOFFSETTO:-0500
TZNAME:EST
DTSTART:20271107T060000
END:STANDARD
END:VTIMEZONE
BEGIN:VEVENT
DTSTART;TZID=America/New_York:20260605T180000
DTEND;TZID=America/New_York:20260605T200000
DTSTAMP:20260423T063902
CREATED:20260106T200554Z
LAST-MODIFIED:20260106T202803Z
UID:10000108-1780682400-1780689600@abcfoc.org
SUMMARY:Upstate CAPS (Wilmington)
DESCRIPTION:Join us for our Upstate CAPS (Connections for Adoption and Permanency Supports) Parent Support Group in-person in Wilmington\, or virtually via Zoom from 6:00–8:00 p.m.  \nThis support group is a welcoming space for adoptive and foster parents to: \nConnect with other parents who truly understand your journey.\nShare challenges and celebrate wins.\nListen\, learn\, and feel supported—even if you don’t feel like sharing.\nEvery parent deserves a community that “gets it.” Sometimes\, just being in the same room with other families who understand can bring comfort and encouragement. \n✅ Free dinner provided✅ Childcare available for ages 2+ \n📩 RSVP today by emailing training@abcfoc.org.
URL:https://abcfoc.org/event/upstate-caps-wilmington-6/
LOCATION:Wilmington Office\, 1307 Philadelphia Pike\, Wilmington\, DE\, 19809\, United States
CATEGORIES:Support Group,Wilmington
ATTACH;FMTTYPE=image/png:https://abcfoc.org/wp-content/uploads/2025/08/WebEventsWilmCAPS.png
ORGANIZER;CN="Meg Garey":MAILTO:info@abcfoc.org
END:VEVENT
BEGIN:VEVENT
DTSTART;TZID=America/New_York:20260616T180000
DTEND;TZID=America/New_York:20260616T200000
DTSTAMP:20260423T063902
CREATED:20260112T175839Z
LAST-MODIFIED:20260113T130052Z
UID:10000146-1781632800-1781640000@abcfoc.org
SUMMARY:Online Workshop: Becoming an Ally for LGBTQ+ Youth with Special Guest Presenter Kyle Teller\, PhD\, of The Trevor Project
DESCRIPTION:Special Guest Presenter: Kyle Teller\, PhD\, of The Trevor Project \nMany LGBTQ+ youth report feeling ignored or discounted when their foster and adoptive parents or other caretakers are unable to talk about gender and sexual identity issues. LGBTQ+ youth who are struggling with self-identification often aren’t able to explain their sexual orientation\, because they themselves are in the process of learning who they are. Because LGBTQ+ youth are overrepresented in the foster care system\, many of our kids may be at a higher risk for mental health disorders and thoughts of self-harm or suicide if they have no one they feel they can talk to. As caregivers\, it’s our responsibility to educate ourselves about sexual/gender orientation and how to support the youth we care for. The Ally Training is designed to create dialogue around being an adult ally for LGBTQ+ young people by informing participants about common terminology\, the “coming out” process\, and challenges at home\, in school\, and the community. This training welcomes all to learn how to support LGBTQ+ young people\, no matter your starting point.\n\n\n\nThis is an event you won’t want to miss! Email training@abcfoc.org to register.
URL:https://abcfoc.org/event/online-workshop-becoming-an-ally-for-lgbtq-youth-with-special-guest-presenter-kyle-teller-phd-of-the-trevor-project/
LOCATION:Virtual via Zoom
CATEGORIES:Training Classes,Virtual,Workshops
ATTACH;FMTTYPE=image/png:https://abcfoc.org/wp-content/uploads/2026/01/June_Wrkshp_WebCal.png
ORGANIZER;CN="Celeste Bishop":MAILTO:training@abcfoc.org
END:VEVENT
BEGIN:VEVENT
DTSTART;TZID=America/New_York:20260626T180000
DTEND;TZID=America/New_York:20260626T200000
DTSTAMP:20260423T063902
CREATED:20260106T202014Z
LAST-MODIFIED:20260106T202014Z
UID:10000119-1782496800-1782504000@abcfoc.org
SUMMARY:Downstate CAPS (Milford)
DESCRIPTION:Join us for our Downstate CAPS (Connections for Adoption and Permanency Supports) Parent Support Group tonight in Milford from 6:00–8:00 p.m. \nThis in-person support group is a welcoming space for adoptive and foster parents to: \nConnect with other parents who truly understand your journey.\nShare challenges and celebrate wins.\nListen\, learn\, and feel supported—even if you don’t feel like sharing.\nEvery parent deserves a community that “gets it.” Sometimes\, just being in the same room with other families who understand can bring comfort and encouragement. \n✅ Free dinner provided✅ Childcare available for ages 2+ \n📩 RSVP today by emailing training@abcfoc.org.
URL:https://abcfoc.org/event/downstate-caps-milford-8/
LOCATION:Milford Office\, 805 S. DuPont Boulevard\, Milford\, DE\, 19963\, United States
CATEGORIES:Milford,Support Group
ATTACH;FMTTYPE=image/png:https://abcfoc.org/wp-content/uploads/2025/08/WebEventsMilfordCAPS.png
END:VEVENT
END:VCALENDAR