BEGIN:VCALENDAR
VERSION:2.0
PRODID:-//ABCFOC - ECPv6.15.20//NONSGML v1.0//EN
CALSCALE:GREGORIAN
METHOD:PUBLISH
X-WR-CALNAME:ABCFOC
X-ORIGINAL-URL:https://abcfoc.org
X-WR-CALDESC:Events for ABCFOC
REFRESH-INTERVAL;VALUE=DURATION:PT1H
X-Robots-Tag:noindex
X-PUBLISHED-TTL:PT1H
BEGIN:VTIMEZONE
TZID:America/New_York
BEGIN:DAYLIGHT
TZOFFSETFROM:-0500
TZOFFSETTO:-0400
TZNAME:EDT
DTSTART:20250309T070000
END:DAYLIGHT
BEGIN:STANDARD
TZOFFSETFROM:-0400
TZOFFSETTO:-0500
TZNAME:EST
DTSTART:20251102T060000
END:STANDARD
BEGIN:DAYLIGHT
TZOFFSETFROM:-0500
TZOFFSETTO:-0400
TZNAME:EDT
DTSTART:20260308T070000
END:DAYLIGHT
BEGIN:STANDARD
TZOFFSETFROM:-0400
TZOFFSETTO:-0500
TZNAME:EST
DTSTART:20261101T060000
END:STANDARD
BEGIN:DAYLIGHT
TZOFFSETFROM:-0500
TZOFFSETTO:-0400
TZNAME:EDT
DTSTART:20270314T070000
END:DAYLIGHT
BEGIN:STANDARD
TZOFFSETFROM:-0400
TZOFFSETTO:-0500
TZNAME:EST
DTSTART:20271107T060000
END:STANDARD
END:VTIMEZONE
BEGIN:VEVENT
DTSTART;TZID=America/New_York:20260501T180000
DTEND;TZID=America/New_York:20260501T200000
DTSTAMP:20260421T082135
CREATED:20260106T200531Z
LAST-MODIFIED:20260106T202803Z
UID:10000107-1777658400-1777665600@abcfoc.org
SUMMARY:Upstate CAPS (Wilmington)
DESCRIPTION:Join us for our Upstate CAPS (Connections for Adoption and Permanency Supports) Parent Support Group in-person in Wilmington\, or virtually via Zoom from 6:00–8:00 p.m.  \nThis support group is a welcoming space for adoptive and foster parents to: \nConnect with other parents who truly understand your journey.\nShare challenges and celebrate wins.\nListen\, learn\, and feel supported—even if you don’t feel like sharing.\nEvery parent deserves a community that “gets it.” Sometimes\, just being in the same room with other families who understand can bring comfort and encouragement. \n✅ Free dinner provided✅ Childcare available for ages 2+ \n📩 RSVP today by emailing training@abcfoc.org.
URL:https://abcfoc.org/event/upstate-caps-wilmington-5/
LOCATION:Wilmington Office\, 1307 Philadelphia Pike\, Wilmington\, DE\, 19809\, United States
CATEGORIES:Support Group,Wilmington
ATTACH;FMTTYPE=image/png:https://abcfoc.org/wp-content/uploads/2025/08/WebEventsWilmCAPS.png
ORGANIZER;CN="Meg Garey":MAILTO:info@abcfoc.org
END:VEVENT
BEGIN:VEVENT
DTSTART;TZID=America/New_York:20260502T080000
DTEND;TZID=America/New_York:20260502T110000
DTSTAMP:20260421T082135
CREATED:20260317T155530Z
LAST-MODIFIED:20260317T160736Z
UID:10000161-1777708800-1777719600@abcfoc.org
SUMMARY:Highmark Walk for a Healthy Community
DESCRIPTION:Walk with us! Registration is FREE! \nThis year\, we’re walking for the children who need more than what insurance covers. Too many kids in our community\, especially those who have experienced trauma\, are unable to access critical therapy and mental health support simply because it falls outside of coverage.  \nWith every step\, we’re raising funds to ensure they get the care they need to heal\, grow\, and thrive. \n📩 Register here: Highmark Walk For A Healthy Community Wilmington
URL:https://abcfoc.org/event/highmark2026/
CATEGORIES:Training Classes,Virtual,Workshops
ATTACH;FMTTYPE=image/png:https://abcfoc.org/wp-content/uploads/2026/03/HighmarkWalk.png
ORGANIZER;CN="Heather Holiday":MAILTO:hholiday@abcfoc.org
END:VEVENT
BEGIN:VEVENT
DTSTART;TZID=America/New_York:20260519T180000
DTEND;TZID=America/New_York:20260519T200000
DTSTAMP:20260421T082135
CREATED:20260108T135501Z
LAST-MODIFIED:20260113T131715Z
UID:10000145-1779213600-1779220800@abcfoc.org
SUMMARY:Online Workshop: The Big 3: Raging\, Lying & Stealing with Special Guest Presenter Barb Clark
DESCRIPTION:Special Guest Presenter: Barb Clark\, Adoptive Parent\, Author\, & Founder of FASD Mosaic \nChild welfare professionals and caregivers alike often support children\, teens\, or adults who struggle with emotional regulation\, impulse control\, and behaviors that may appear defiant\, disruptive\, or confusing. Traditional behavior management strategies frequently fall short—especially when trauma\, neurodiversity\, or brain-based conditions are involved—leaving everyone feeling frustrated and disconnected. This session addresses trauma-responsive\, relationship-centered approaches to challenging behaviors. Through real-world examples and practical tools\, participants will learn how to shift from reacting to connecting—using strategies that de-escalate conflict\, build trust\, and promote long-term growth. Behaviors like raging\, lying and stealing will be reframed through a lens of compassion\, brain science\, and hope. \nAttendees will receive a FREE copy of Barb’s book\, Raising Kids and Teens with FASD: Advice and Strategies to Help Your Family to Thrive! That includes helpful chapters regarding raging\, lying\, and stealing. \nBarb Clark is known for her down-to-earth style\, blending honesty\, humor\, and practical wisdom to empower caregivers and professionals. Her trainings offer real-world strategies that actually work. As the adoptive parent of five adult children\, including one with FASD\, Barb brings lived experience and deep insight to her work in her business.\n\n\n\n📩 RSVP today by emailing training@abcfoc.org.
URL:https://abcfoc.org/event/online-workshop-the-big-3-raging-lying-stealing-with-special-guest-presenter-barb-clark/
LOCATION:Virtual via Zoom
CATEGORIES:Training Classes,Virtual,Workshops
ATTACH;FMTTYPE=image/png:https://abcfoc.org/wp-content/uploads/2026/01/May_Wrkshp_WebCal-1.png
ORGANIZER;CN="Celeste Bishop":MAILTO:training@abcfoc.org
END:VEVENT
BEGIN:VEVENT
DTSTART;TZID=America/New_York:20260529T180000
DTEND;TZID=America/New_York:20260529T200000
DTSTAMP:20260421T082135
CREATED:20260106T201626Z
LAST-MODIFIED:20260106T201626Z
UID:10000118-1780077600-1780084800@abcfoc.org
SUMMARY:Downstate CAPS (Milford)
DESCRIPTION:Join us for our Downstate CAPS (Connections for Adoption and Permanency Supports) Parent Support Group tonight in Milford from 6:00–8:00 p.m. \nThis in-person support group is a welcoming space for adoptive and foster parents to: \nConnect with other parents who truly understand your journey.\nShare challenges and celebrate wins.\nListen\, learn\, and feel supported—even if you don’t feel like sharing.\nEvery parent deserves a community that “gets it.” Sometimes\, just being in the same room with other families who understand can bring comfort and encouragement. \n✅ Free dinner provided✅ Childcare available for ages 2+ \n📩 RSVP today by emailing training@abcfoc.org.
URL:https://abcfoc.org/event/downstate-caps-milford-7/
LOCATION:Milford Office\, 805 S. DuPont Boulevard\, Milford\, DE\, 19963\, United States
CATEGORIES:Milford,Support Group
ATTACH;FMTTYPE=image/png:https://abcfoc.org/wp-content/uploads/2025/08/WebEventsMilfordCAPS.png
END:VEVENT
END:VCALENDAR