BEGIN:VCALENDAR
VERSION:2.0
PRODID:-//ABCFOC - ECPv6.15.20//NONSGML v1.0//EN
CALSCALE:GREGORIAN
METHOD:PUBLISH
X-ORIGINAL-URL:https://abcfoc.org
X-WR-CALDESC:Events for ABCFOC
REFRESH-INTERVAL;VALUE=DURATION:PT1H
X-Robots-Tag:noindex
X-PUBLISHED-TTL:PT1H
BEGIN:VTIMEZONE
TZID:America/New_York
BEGIN:DAYLIGHT
TZOFFSETFROM:-0500
TZOFFSETTO:-0400
TZNAME:EDT
DTSTART:20250309T070000
END:DAYLIGHT
BEGIN:STANDARD
TZOFFSETFROM:-0400
TZOFFSETTO:-0500
TZNAME:EST
DTSTART:20251102T060000
END:STANDARD
BEGIN:DAYLIGHT
TZOFFSETFROM:-0500
TZOFFSETTO:-0400
TZNAME:EDT
DTSTART:20260308T070000
END:DAYLIGHT
BEGIN:STANDARD
TZOFFSETFROM:-0400
TZOFFSETTO:-0500
TZNAME:EST
DTSTART:20261101T060000
END:STANDARD
BEGIN:DAYLIGHT
TZOFFSETFROM:-0500
TZOFFSETTO:-0400
TZNAME:EDT
DTSTART:20270314T070000
END:DAYLIGHT
BEGIN:STANDARD
TZOFFSETFROM:-0400
TZOFFSETTO:-0500
TZNAME:EST
DTSTART:20271107T060000
END:STANDARD
END:VTIMEZONE
BEGIN:VEVENT
DTSTART;TZID=America/New_York:20260206T180000
DTEND;TZID=America/New_York:20260206T200000
DTSTAMP:20260419T091335
CREATED:20260106T200340Z
LAST-MODIFIED:20260113T130700Z
UID:10000104-1770400800-1770408000@abcfoc.org
SUMMARY:Upstate CAPS (Wilmington)
DESCRIPTION:Join us for our Upstate CAPS (Connections for Adoption and Permanency Supports) Parent Support Group in-person in Wilmington\, or virtually via Zoom from 6:00–8:00 p.m.  \nThis support group is a welcoming space for adoptive and foster parents to: \nConnect with other parents who truly understand your journey.\nShare challenges and celebrate wins.\nListen\, learn\, and feel supported—even if you don’t feel like sharing.\nEvery parent deserves a community that “gets it.” Sometimes\, just being in the same room with other families who understand can bring comfort and encouragement. \n✅ Free dinner provided✅ Childcare available for ages 2+ \n📩 RSVP today by emailing training@abcfoc.org.
URL:https://abcfoc.org/event/upstate-caps-wilmington-2/
LOCATION:Wilmington Office\, 1307 Philadelphia Pike\, Wilmington\, DE\, 19809\, United States
CATEGORIES:Support Group,Wilmington
ATTACH;FMTTYPE=image/png:https://abcfoc.org/wp-content/uploads/2025/08/WebEventsWilmCAPS.png
ORGANIZER;CN="Meg Garey":MAILTO:info@abcfoc.org
END:VEVENT
BEGIN:VEVENT
DTSTART;TZID=America/New_York:20260217T180000
DTEND;TZID=America/New_York:20260217T200000
DTSTAMP:20260419T091335
CREATED:20260107T193418Z
LAST-MODIFIED:20260113T130729Z
UID:10000127-1771351200-1771358400@abcfoc.org
SUMMARY:Online Workshop: Helping Children Understand Their Story
DESCRIPTION:Facilitators: Meg Garey\, LPCMH/Executive Director and Celeste Bishop\, Permanency Specialist \nAdoptive Parents\, Permanent Guardians\, Guardians\, and foster parents often struggle to find just the right words to help their children understand why they aren’t being raised by their biological parents. Topics such as abuse\, neglect\, substance use\, and incarceration – among others – are sensitive topics. As parents and caregivers\, we want to shield our kids from things that may hurt or confuse them. When our kids become curious and start asking the hard questions\, we’re often at a loss about the words to use and how much information is “okay” to share. Join us as we talk about how important it is for our kids to understand their story in a way that doesn’t further traumatize them. You’ll leave this workshop with conversational approaches you can use with your children at different developmental stages. \n📩 RSVP today by emailing training@abcfoc.org.
URL:https://abcfoc.org/event/online-workshop-helping-children-understand-their-story/
LOCATION:Virtual via Zoom
CATEGORIES:Training Classes,Virtual,Workshops
ATTACH;FMTTYPE=image/png:https://abcfoc.org/wp-content/uploads/2026/01/Feb_Wrkshp_WebCal.png
ORGANIZER;CN="Celeste Bishop":MAILTO:training@abcfoc.org
END:VEVENT
BEGIN:VEVENT
DTSTART;TZID=America/New_York:20260227T180000
DTEND;TZID=America/New_York:20260227T200000
DTSTAMP:20260419T091335
CREATED:20260106T201505Z
LAST-MODIFIED:20260113T130825Z
UID:10000115-1772215200-1772222400@abcfoc.org
SUMMARY:Downstate CAPS (Milford)
DESCRIPTION:Join us for our Downstate CAPS (Connections for Adoption and Permanency Supports) Parent Support Group tonight in Milford from 6:00–8:00 p.m. \nThis in-person support group is a welcoming space for adoptive and foster parents to: \nConnect with other parents who truly understand your journey.\nShare challenges and celebrate wins.\nListen\, learn\, and feel supported—even if you don’t feel like sharing.\nEvery parent deserves a community that “gets it.” Sometimes\, just being in the same room with other families who understand can bring comfort and encouragement. \n✅ Free dinner provided✅ Childcare available for ages 2+ \n📩 RSVP today by emailing training@abcfoc.org.
URL:https://abcfoc.org/event/downstate-caps-milford-4/
LOCATION:Milford Office\, 805 S. DuPont Boulevard\, Milford\, DE\, 19963\, United States
CATEGORIES:Milford,Support Group
ATTACH;FMTTYPE=image/png:https://abcfoc.org/wp-content/uploads/2025/08/WebEventsMilfordCAPS.png
END:VEVENT
END:VCALENDAR