BEGIN:VCALENDAR
VERSION:2.0
PRODID:-//ABCFOC - ECPv6.15.20//NONSGML v1.0//EN
CALSCALE:GREGORIAN
METHOD:PUBLISH
X-WR-CALNAME:ABCFOC
X-ORIGINAL-URL:https://abcfoc.org
X-WR-CALDESC:Events for ABCFOC
REFRESH-INTERVAL;VALUE=DURATION:PT1H
X-Robots-Tag:noindex
X-PUBLISHED-TTL:PT1H
BEGIN:VTIMEZONE
TZID:America/New_York
BEGIN:DAYLIGHT
TZOFFSETFROM:-0500
TZOFFSETTO:-0400
TZNAME:EDT
DTSTART:20240310T070000
END:DAYLIGHT
BEGIN:STANDARD
TZOFFSETFROM:-0400
TZOFFSETTO:-0500
TZNAME:EST
DTSTART:20241103T060000
END:STANDARD
BEGIN:DAYLIGHT
TZOFFSETFROM:-0500
TZOFFSETTO:-0400
TZNAME:EDT
DTSTART:20250309T070000
END:DAYLIGHT
BEGIN:STANDARD
TZOFFSETFROM:-0400
TZOFFSETTO:-0500
TZNAME:EST
DTSTART:20251102T060000
END:STANDARD
BEGIN:DAYLIGHT
TZOFFSETFROM:-0500
TZOFFSETTO:-0400
TZNAME:EDT
DTSTART:20260308T070000
END:DAYLIGHT
BEGIN:STANDARD
TZOFFSETFROM:-0400
TZOFFSETTO:-0500
TZNAME:EST
DTSTART:20261101T060000
END:STANDARD
END:VTIMEZONE
BEGIN:VEVENT
DTSTART;TZID=America/New_York:20250905T180000
DTEND;TZID=America/New_York:20250905T200000
DTSTAMP:20260419T122110
CREATED:20250826T183937Z
LAST-MODIFIED:20260106T202801Z
UID:10000097-1757095200-1757102400@abcfoc.org
SUMMARY:Upstate CAPS (Wilmington)
DESCRIPTION:Join us for our Upstate CAPS (Connections for Adoption and Permanency Supports) Parent Support Group in-person in Wilmington\, or virtually via Zoom from 6:00–8:00 p.m.  \nThis support group is a welcoming space for adoptive and foster parents to: \n\n\nConnect with other parents who truly understand your journey \n\n\nShare challenges and celebrate wins \n\n\nListen\, learn\, and feel supported—even if you don’t feel like sharing \n\n\nEvery parent deserves a community that “gets it.” Sometimes\, just being in the same room with other families who understand can bring comfort and encouragement. \n✅ Free dinner provided✅ Childcare available for ages 2+ \n📩 RSVP today by emailing training@abcfoc.org.
URL:https://abcfoc.org/event/wilmington-foster-adoptive-parent-support-group/
LOCATION:Wilmington Office\, 1307 Philadelphia Pike\, Wilmington\, DE\, 19809\, United States
CATEGORIES:Support Group,Wilmington
ATTACH;FMTTYPE=image/png:https://abcfoc.org/wp-content/uploads/2025/08/WebEventsWilmCAPS.png
ORGANIZER;CN="Meg Garey":MAILTO:info@abcfoc.org
END:VEVENT
BEGIN:VEVENT
DTSTART;TZID=America/New_York:20250902T160000
DTEND;TZID=America/New_York:20250902T190000
DTSTAMP:20260419T122110
CREATED:20250826T180458Z
LAST-MODIFIED:20250826T181145Z
UID:10000095-1756828800-1756839600@abcfoc.org
SUMMARY:Virtual Information Night
DESCRIPTION:Looking for information on becoming an adoptive parent\, foster parent\, or respite provider? A Better Chance for Our Children hosts Information Night sessions via Zoom the first Tuesday of every month from 4 – 7 pm. ⁠\n⁠\nCindy Knapp\, our Downstate Program Supervisor\, will be there to explain the process. With our virtual open house format folks can drop in anytime between 4 – 7 p.m. and ask Cindy any questions they may have. ⁠\n⁠
URL:https://abcfoc.org/event/virtual-information-night/
LOCATION:Virtual via Zoom
CATEGORIES:Information,Virtual
ATTACH;FMTTYPE=image/png:https://abcfoc.org/wp-content/uploads/2025/08/WebEventsImage.png
ORGANIZER;CN="Cindy Knapp":MAILTO:info@abcfoc.org
END:VEVENT
END:VCALENDAR