BEGIN:VCALENDAR
VERSION:2.0
PRODID:-//ABCFOC - ECPv6.15.20//NONSGML v1.0//EN
CALSCALE:GREGORIAN
METHOD:PUBLISH
X-ORIGINAL-URL:https://abcfoc.org
X-WR-CALDESC:Events for ABCFOC
REFRESH-INTERVAL;VALUE=DURATION:PT1H
X-Robots-Tag:noindex
X-PUBLISHED-TTL:PT1H
BEGIN:VTIMEZONE
TZID:America/New_York
BEGIN:DAYLIGHT
TZOFFSETFROM:-0500
TZOFFSETTO:-0400
TZNAME:EDT
DTSTART:20250309T070000
END:DAYLIGHT
BEGIN:STANDARD
TZOFFSETFROM:-0400
TZOFFSETTO:-0500
TZNAME:EST
DTSTART:20251102T060000
END:STANDARD
BEGIN:DAYLIGHT
TZOFFSETFROM:-0500
TZOFFSETTO:-0400
TZNAME:EDT
DTSTART:20260308T070000
END:DAYLIGHT
BEGIN:STANDARD
TZOFFSETFROM:-0400
TZOFFSETTO:-0500
TZNAME:EST
DTSTART:20261101T060000
END:STANDARD
BEGIN:DAYLIGHT
TZOFFSETFROM:-0500
TZOFFSETTO:-0400
TZNAME:EDT
DTSTART:20270314T070000
END:DAYLIGHT
BEGIN:STANDARD
TZOFFSETFROM:-0400
TZOFFSETTO:-0500
TZNAME:EST
DTSTART:20271107T060000
END:STANDARD
END:VTIMEZONE
BEGIN:VEVENT
DTSTART;TZID=America/New_York:20261017T100000
DTEND;TZID=America/New_York:20261017T140000
DTSTAMP:20260425T122923
CREATED:20260112T213425Z
LAST-MODIFIED:20260113T130116Z
UID:10000159-1792231200-1792245600@abcfoc.org
SUMMARY:In-Person Workshop: Your Amazing Brain!  A Family Event to Explore Emotions\, Behavior\, and the Brain
DESCRIPTION:Facilitated by: ABCFOC Staff \nBring the kids and join us for a powerful\, interactive Saturday workshop designed for parents and kids (ages 5+) to explore what’s really going on in the brain during those roaring\, grumping\, and shut-down moments — and learn what you both can do about it! \nThis workshop is based on the work of Jessica Sinarski\, renowned author of “Your Amazing Brain” and the Riley the Brave series of books\, among others. Registrants will receive a free workbook! We’ll do activities and learn new information to bring the “invisible world” of the brain to life in fun\, memorable\, and practical ways. Expect a day full of learning\, laughter\, and lightbulb moments\, along with free books and takeaways to help continue the learning at home! And we’ll serve lunch! \nLOCATION TBD. \nPlease consider joining us for this once in a lifetime opportunity. Email training@abcfoc.org to register.
URL:https://abcfoc.org/event/in-person-workshop-your-amazing-brain-a-family-event-to-explore-emotions-behavior-and-the-brain/
LOCATION:A Better Chance for our Children\, 805 S. DuPont Blvd\, Milford\, DE\, 19963\, United States
CATEGORIES:Training Classes,Workshops
ATTACH;FMTTYPE=image/png:https://abcfoc.org/wp-content/uploads/2026/01/Oct_Wrkshp_WebCal.png
ORGANIZER;CN="Celeste Bishop":MAILTO:training@abcfoc.org
END:VEVENT
END:VCALENDAR