BEGIN:VCALENDAR
VERSION:2.0
PRODID:-//ABCFOC - ECPv6.15.20//NONSGML v1.0//EN
CALSCALE:GREGORIAN
METHOD:PUBLISH
X-ORIGINAL-URL:https://abcfoc.org
X-WR-CALDESC:Events for ABCFOC
REFRESH-INTERVAL;VALUE=DURATION:PT1H
X-Robots-Tag:noindex
X-PUBLISHED-TTL:PT1H
BEGIN:VTIMEZONE
TZID:America/New_York
BEGIN:DAYLIGHT
TZOFFSETFROM:-0500
TZOFFSETTO:-0400
TZNAME:EDT
DTSTART:20250309T070000
END:DAYLIGHT
BEGIN:STANDARD
TZOFFSETFROM:-0400
TZOFFSETTO:-0500
TZNAME:EST
DTSTART:20251102T060000
END:STANDARD
BEGIN:DAYLIGHT
TZOFFSETFROM:-0500
TZOFFSETTO:-0400
TZNAME:EDT
DTSTART:20260308T070000
END:DAYLIGHT
BEGIN:STANDARD
TZOFFSETFROM:-0400
TZOFFSETTO:-0500
TZNAME:EST
DTSTART:20261101T060000
END:STANDARD
BEGIN:DAYLIGHT
TZOFFSETFROM:-0500
TZOFFSETTO:-0400
TZNAME:EDT
DTSTART:20270314T070000
END:DAYLIGHT
BEGIN:STANDARD
TZOFFSETFROM:-0400
TZOFFSETTO:-0500
TZNAME:EST
DTSTART:20271107T060000
END:STANDARD
END:VTIMEZONE
BEGIN:VEVENT
DTSTART;TZID=America/New_York:20260923T080000
DTEND;TZID=America/New_York:20260923T170000
DTSTAMP:20260425T123010
CREATED:20260112T210120Z
LAST-MODIFIED:20260112T210120Z
UID:10000154-1790150400-1790182800@abcfoc.org
SUMMARY:Online Workshop: Becoming a Love and Logic Parent: A Six Week Series
DESCRIPTION:Facilitated by Celeste Bishop\, Permanency Specialist and Misty Bloomer\, Child and Family Specialist with ABCFOC\, Adoptive Parent and former Foster Parent \nParticipants should plan to attend all sessions! \nThe Love and Logic approach is a method of parenting that allows us to have less stress and better interactions while raising and teaching our children. Love allows children to grow through their mistakes. Logic allows children to live with the consequences of their choices. This six-week course\, which comes with a workbook\, will provide effective tools to help you teach children to be responsible\, and to prepare them for life in the real world. Using Love and Logic methods will help you take back control and develop a better relationship with your child! Participants should plan to attend all sessions. \n  \nThis is an event you won’t want to miss! Email training@abcfoc.org to register.
URL:https://abcfoc.org/event/online-workshop-becoming-a-love-and-logic-parent-a-six-week-series/2026-09-23/
LOCATION:Virtual via Zoom
CATEGORIES:Training Classes,Virtual,Workshops
ATTACH;FMTTYPE=image/png:https://abcfoc.org/wp-content/uploads/2026/01/Sept2_Wrkshp_WebCal.png
ORGANIZER;CN="Celeste Bishop":MAILTO:training@abcfoc.org
END:VEVENT
END:VCALENDAR