BEGIN:VCALENDAR
VERSION:2.0
PRODID:-//ABCFOC - ECPv6.15.20//NONSGML v1.0//EN
CALSCALE:GREGORIAN
METHOD:PUBLISH
X-WR-CALNAME:ABCFOC
X-ORIGINAL-URL:https://abcfoc.org
X-WR-CALDESC:Events for ABCFOC
REFRESH-INTERVAL;VALUE=DURATION:PT1H
X-Robots-Tag:noindex
X-PUBLISHED-TTL:PT1H
BEGIN:VTIMEZONE
TZID:America/New_York
BEGIN:DAYLIGHT
TZOFFSETFROM:-0500
TZOFFSETTO:-0400
TZNAME:EDT
DTSTART:20250309T070000
END:DAYLIGHT
BEGIN:STANDARD
TZOFFSETFROM:-0400
TZOFFSETTO:-0500
TZNAME:EST
DTSTART:20251102T060000
END:STANDARD
BEGIN:DAYLIGHT
TZOFFSETFROM:-0500
TZOFFSETTO:-0400
TZNAME:EDT
DTSTART:20260308T070000
END:DAYLIGHT
BEGIN:STANDARD
TZOFFSETFROM:-0400
TZOFFSETTO:-0500
TZNAME:EST
DTSTART:20261101T060000
END:STANDARD
BEGIN:DAYLIGHT
TZOFFSETFROM:-0500
TZOFFSETTO:-0400
TZNAME:EDT
DTSTART:20270314T070000
END:DAYLIGHT
BEGIN:STANDARD
TZOFFSETFROM:-0400
TZOFFSETTO:-0500
TZNAME:EST
DTSTART:20271107T060000
END:STANDARD
END:VTIMEZONE
BEGIN:VEVENT
DTSTART;TZID=America/New_York:20260317T180000
DTEND;TZID=America/New_York:20260317T200000
DTSTAMP:20260419T091401
CREATED:20260107T194703Z
LAST-MODIFIED:20260113T131312Z
UID:10000136-1773770400-1773777600@abcfoc.org
SUMMARY:Online Workshop: Understanding and Supporting Transracial Adoptees & Fosterees with Special Guest Isaac Etter
DESCRIPTION:Special Guest Presenters:\nIsaac Etter\, Transracial Adoptee and Social Entrepreneur \nAdopted at the age of two\, Isaac Etter brings both lived experience and professional expertise to his work as the founder of Identity and Parenting Different. Isaac sparks honest conversations about how to support adopted children as the grow up. He equips parents with the tools and understanding needed to build families where adoptees feel seen\, heard\, and truly valued. Join in as Isaac shares with us his own transracial adoption experience and his practical guide to helping children develop healthy racial identities. We’ll laugh and learn from Isaac’s story of growing up as a “black boy in a white family.” He’ll outline a practical guide of what to do and conversations to have with every age. \nWe are so excited to bring such a sought-after speaker and educator to our Delaware families! You are not going to want to miss this workshop! Learn more about Isaac before the workshop at: www.identitylearning.co and www.parentingdifferent.com \n📩 RSVP today by emailing training@abcfoc.org.
URL:https://abcfoc.org/event/online-workshop-understanding-and-supporting-transracial-adoptees-fosterees-with-special-guest-isaac-etter/
LOCATION:Virtual via Zoom
CATEGORIES:Training Classes,Virtual,Workshops
ATTACH;FMTTYPE=image/png:https://abcfoc.org/wp-content/uploads/2026/01/Etter_Wrkshp_WebCal.png
ORGANIZER;CN="Celeste Bishop":MAILTO:training@abcfoc.org
END:VEVENT
END:VCALENDAR